BEGIN:VCALENDAR
VERSION:2.0
PRODID:-//Parroquia de Arnedo - ECPv6.15.20//NONSGML v1.0//EN
CALSCALE:GREGORIAN
METHOD:PUBLISH
X-WR-CALNAME:Parroquia de Arnedo
X-ORIGINAL-URL:https://www.parroquiadearnedo.org
X-WR-CALDESC:Eventos para Parroquia de Arnedo
REFRESH-INTERVAL;VALUE=DURATION:PT1H
X-Robots-Tag:noindex
X-PUBLISHED-TTL:PT1H
BEGIN:VTIMEZONE
TZID:Europe/Madrid
BEGIN:DAYLIGHT
TZOFFSETFROM:+0100
TZOFFSETTO:+0200
TZNAME:CEST
DTSTART:20250330T010000
END:DAYLIGHT
BEGIN:STANDARD
TZOFFSETFROM:+0200
TZOFFSETTO:+0100
TZNAME:CET
DTSTART:20251026T010000
END:STANDARD
BEGIN:DAYLIGHT
TZOFFSETFROM:+0100
TZOFFSETTO:+0200
TZNAME:CEST
DTSTART:20260329T010000
END:DAYLIGHT
BEGIN:STANDARD
TZOFFSETFROM:+0200
TZOFFSETTO:+0100
TZNAME:CET
DTSTART:20261025T010000
END:STANDARD
BEGIN:DAYLIGHT
TZOFFSETFROM:+0100
TZOFFSETTO:+0200
TZNAME:CEST
DTSTART:20270328T010000
END:DAYLIGHT
BEGIN:STANDARD
TZOFFSETFROM:+0200
TZOFFSETTO:+0100
TZNAME:CET
DTSTART:20271031T010000
END:STANDARD
END:VTIMEZONE
BEGIN:VEVENT
DTSTART;TZID=Europe/Madrid:20260424T200000
DTEND;TZID=Europe/Madrid:20260424T230000
DTSTAMP:20260424T101830
CREATED:20260423T092705Z
LAST-MODIFIED:20260423T092705Z
UID:22591-1777060800-1777071600@www.parroquiadearnedo.org
SUMMARY:Misa en Santo Tomás y responso en el Patio rezando por los difuntos de la comunidad armenia 🇦🇲
DESCRIPTION:🙏 8\,00 de la tarde: Misa en Santo Tomás.🙏 8\,30 de la tarde: oración junto a la cruz armenia del Patio de Santo Tomás.
URL:https://www.parroquiadearnedo.org/?tribe_events=misa-en-santo-tomas-y-responso-en-el-patio-rezando-por-los-difuntos-de-la-comunidad-armenia-%f0%9f%87%a6%f0%9f%87%b2
LOCATION:Iglesia de Santo Tomas de Arnedo
ORGANIZER;CN="Parroquia de Arnedo":MAILTO:noreply@facebookmail.com
END:VEVENT
BEGIN:VEVENT
DTSTART;TZID=Europe/Madrid:20260425T120000
DTEND;TZID=Europe/Madrid:20260425T150000
DTSTAMP:20260424T101830
CREATED:20260423T092705Z
LAST-MODIFIED:20260423T092705Z
UID:22592-1777118400-1777129200@www.parroquiadearnedo.org
SUMMARY:Concierto de órgano y violín en el santuario de Vico
DESCRIPTION:🎹 🎻 ¡Tenedlo en cuenta!!
URL:https://www.parroquiadearnedo.org/?tribe_events=concierto-de-organo-y-violin-en-el-santuario-de-vico
LOCATION:Monasterio De La Virgen De Vico\, Arnedo\, 26580\, ES
ORGANIZER;CN="Parroquia de Arnedo":MAILTO:noreply@facebookmail.com
END:VEVENT
BEGIN:VEVENT
DTSTART;TZID=Europe/Madrid:20260425T200000
DTEND;TZID=Europe/Madrid:20260425T230000
DTSTAMP:20260424T101830
CREATED:20260423T092705Z
LAST-MODIFIED:20260423T092705Z
UID:22593-1777147200-1777158000@www.parroquiadearnedo.org
SUMMARY:"Día de acción de gracias parroquial”: Misa en San Cosme\, concierto y aperitivo
DESCRIPTION:❤️ “Día de acción de gracias por los que rezan\, por los voluntarios y por los bienhechores de la parroquia y de Cáritas-Arnedo”: sábado\, 25 de abril de 2026. \n 🙏 8 de la tarde: Misa en San rgano. 🥪 Concluiremos con un aperitivo en el patio del Padre
URL:https://www.parroquiadearnedo.org/?tribe_events=dia-de-accion-de-gracias-parroquial-misa-en-san-cosme-concierto-y-aperitivo
LOCATION:Iglesia De San Cosme y San Damián De Arnedo\, San Cosme 1\, Arnedo\, 26580\, ES
ORGANIZER;CN="Parroquia de Arnedo":MAILTO:noreply@facebookmail.com
END:VEVENT
BEGIN:VEVENT
DTSTART;TZID=Europe/Madrid:20260428T203000
DTEND;TZID=Europe/Madrid:20260428T233000
DTSTAMP:20260424T101830
CREATED:20260423T092706Z
LAST-MODIFIED:20260423T092706Z
UID:22594-1777408200-1777419000@www.parroquiadearnedo.org
SUMMARY:Hora Santa en la iglesia de Santo Tomás
DESCRIPTION:¡Estáis todos invitados!!
URL:https://www.parroquiadearnedo.org/?tribe_events=hora-santa-en-la-iglesia-de-santo-tomas
LOCATION:Iglesia de Santo Tomas de Arnedo
ORGANIZER;CN="Parroquia de Arnedo":MAILTO:noreply@facebookmail.com
END:VEVENT
BEGIN:VEVENT
DTSTART;TZID=Europe/Madrid:20260430T203000
DTEND;TZID=Europe/Madrid:20260430T233000
DTSTAMP:20260424T101830
CREATED:20260423T092706Z
LAST-MODIFIED:20260423T092706Z
UID:22595-1777581000-1777591800@www.parroquiadearnedo.org
SUMMARY:Reunión del Consejo Parroquial de Pastoral
DESCRIPTION:🔈
URL:https://www.parroquiadearnedo.org/?tribe_events=reunion-del-consejo-parroquial-de-pastoral
LOCATION:Carrera de Vico 2\, 1º\, Arnedo
ORGANIZER;CN="Parroquia de Arnedo":MAILTO:noreply@facebookmail.com
END:VEVENT
BEGIN:VEVENT
DTSTART;TZID=Europe/Madrid:20260501T120000
DTEND;TZID=Europe/Madrid:20260501T150000
DTSTAMP:20260424T101830
CREATED:20250916T172210Z
LAST-MODIFIED:20250916T172210Z
UID:22193-1777636800-1777647600@www.parroquiadearnedo.org
SUMMARY:Primeras Comuniones 2026: 1ª tanda
DESCRIPTION:🔈
URL:https://www.parroquiadearnedo.org/?tribe_events=primeras-comuniones-2026-1a-tanda
LOCATION:Iglesia De San Cosme y San Damián De Arnedo\, San Cosme 1\, Arnedo\, 26580\, ES
ORGANIZER;CN="Parroquia de Arnedo":MAILTO:noreply@facebookmail.com
END:VEVENT
BEGIN:VEVENT
DTSTART;TZID=Europe/Madrid:20260501T200000
DTEND;TZID=Europe/Madrid:20260501T230000
DTSTAMP:20260424T101830
CREATED:20260423T092706Z
LAST-MODIFIED:20260423T092706Z
UID:22596-1777665600-1777676400@www.parroquiadearnedo.org
SUMMARY:Misa encomendando a D. Santiago Gil de Muro y a D. Felipe Abad en el día de sus cumpleaños
DESCRIPTION:Ambos sacerdotes arnedanos nacieron el 1 de mayo: D. Santiago de 1923 y D. Felipe de 1934.¡Rezaremos por ellos!
URL:https://www.parroquiadearnedo.org/?tribe_events=misa-encomendando-a-d-santiago-gil-de-muro-y-a-d-felipe-abad-en-el-dia-de-sus-cumpleanos
LOCATION:Iglesia de Santo Tomas de Arnedo
ORGANIZER;CN="Parroquia de Arnedo":MAILTO:noreply@facebookmail.com
END:VEVENT
BEGIN:VEVENT
DTSTART;TZID=Europe/Madrid:20260502T120000
DTEND;TZID=Europe/Madrid:20260502T150000
DTSTAMP:20260424T101830
CREATED:20250916T172210Z
LAST-MODIFIED:20250916T172210Z
UID:22194-1777723200-1777734000@www.parroquiadearnedo.org
SUMMARY:Primeras Comuniones 2026: 2ª tanda
DESCRIPTION:🔈
URL:https://www.parroquiadearnedo.org/?tribe_events=primeras-comuniones-2026-2a-tanda
LOCATION:Iglesia De San Cosme y San Damián De Arnedo\, San Cosme 1\, Arnedo\, 26580\, ES
ORGANIZER;CN="Parroquia de Arnedo":MAILTO:noreply@facebookmail.com
END:VEVENT
BEGIN:VEVENT
DTSTART;TZID=Europe/Madrid:20260509T120000
DTEND;TZID=Europe/Madrid:20260509T150000
DTSTAMP:20260424T101830
CREATED:20250916T172210Z
LAST-MODIFIED:20250916T172210Z
UID:22195-1778328000-1778338800@www.parroquiadearnedo.org
SUMMARY:Primeras Comuniones 2026: 3ª tanda
DESCRIPTION:🔈
URL:https://www.parroquiadearnedo.org/?tribe_events=primeras-comuniones-2026-3a-tanda
LOCATION:Iglesia De San Cosme y San Damián De Arnedo\, San Cosme 1\, Arnedo\, 26580\, ES
ORGANIZER;CN="Parroquia de Arnedo":MAILTO:noreply@facebookmail.com
END:VEVENT
BEGIN:VEVENT
DTSTART;TZID=Europe/Madrid:20260510T120000
DTEND;TZID=Europe/Madrid:20260510T150000
DTSTAMP:20260424T101830
CREATED:20250916T172211Z
LAST-MODIFIED:20250916T172211Z
UID:22196-1778414400-1778425200@www.parroquiadearnedo.org
SUMMARY:Primeras Comuniones 2026: 4ª tanda
DESCRIPTION:🔈
URL:https://www.parroquiadearnedo.org/?tribe_events=primeras-comuniones-2026-4a-tanda
LOCATION:Iglesia De San Cosme y San Damián De Arnedo\, San Cosme 1\, Arnedo\, 26580\, ES
ORGANIZER;CN="Parroquia de Arnedo":MAILTO:noreply@facebookmail.com
END:VEVENT
BEGIN:VEVENT
DTSTART;TZID=Europe/Madrid:20260516T120000
DTEND;TZID=Europe/Madrid:20260516T150000
DTSTAMP:20260424T101830
CREATED:20250916T172211Z
LAST-MODIFIED:20250916T172211Z
UID:22197-1778932800-1778943600@www.parroquiadearnedo.org
SUMMARY:Primeras Comuniones 2026: 5ª tanda
DESCRIPTION:🔈
URL:https://www.parroquiadearnedo.org/?tribe_events=primeras-comuniones-2026-5a-tanda
LOCATION:Iglesia De San Cosme y San Damián De Arnedo\, San Cosme 1\, Arnedo\, 26580\, ES
ORGANIZER;CN="Parroquia de Arnedo":MAILTO:noreply@facebookmail.com
END:VEVENT
BEGIN:VEVENT
DTSTART;TZID=Europe/Madrid:20260530T120000
DTEND;TZID=Europe/Madrid:20260530T150000
DTSTAMP:20260424T101830
CREATED:20260107T171328Z
LAST-MODIFIED:20260107T171328Z
UID:22359-1780142400-1780153200@www.parroquiadearnedo.org
SUMMARY:Primeras Comuniones 2026: 6ª tanda
DESCRIPTION:🔈
URL:https://www.parroquiadearnedo.org/?tribe_events=primeras-comuniones-2026-6a-tanda
LOCATION:Iglesia De San Cosme y San Damián De Arnedo\, San Cosme 1\, Arnedo\, 26580\, ES
ORGANIZER;CN="Parroquia de Arnedo":MAILTO:noreply@facebookmail.com
END:VEVENT
END:VCALENDAR